BEGIN:VCALENDAR
VERSION:2.0
PRODID:-//eventon.com NONSGML v1.0//EN
BEGIN:VEVENT
UID:69e57a9838433
DTSTAMP:20260420T030008
DTSTART:20250725T153000Z
DTEND:20250725T180000Z
LOCATION:
SUMMARY:Vrijmibo in ‘ t Sprengenhus
DESCRIPTION: VrijMiBo ​ WANNEER:​25 JULI 2025 TIJD:​​​17:30-20.00 UUR WAAR:​​HET SPRENGENHUS De vrijdagmiddagborrel is toegankelijk voor iedereen. Het is een mooi moment om de week door te spreken en het weekend in te luiden onder het genot van een kop koffie of een borreltje. Graag ontmoeten wij jullie in ’t Sprengenhus.
END:VEVENT
END:VCALENDAR