BEGIN:VCALENDAR
VERSION:2.0
PRODID:-//eventon.com NONSGML v1.0//EN
BEGIN:VEVENT
UID:69e54668e648a
DTSTAMP:20260419T231728
DTSTART:20250628T120000Z
DTEND:20250628T133000Z
LOCATION:
SUMMARY:Natuur belevingstocht kids
DESCRIPTION: Op 28 juni hebben is er weer een leuke activiteit georganiseerd. Gidsen van het IVN hebben een spannende natuurbelevingstocht bedacht op het landgoed Langenberg (Laag-Soeren). Zij zullen dit ook begeleiden. Er wordt naar dierensporen gezocht\,  insecten worden in een loeppotje bekeken en misschien komen de Kids erachter waar de dassen[..]
END:VEVENT
END:VCALENDAR