BEGIN:VCALENDAR
VERSION:2.0
PRODID:-//eventon.com NONSGML v1.0//EN
BEGIN:VEVENT
UID:69e52e3238d34
DTSTAMP:20260419T213410
DTSTART:20250807T120000Z
DTEND:20250807T140000Z
LOCATION:
SUMMARY:Creatieve middag
DESCRIPTION: 
END:VEVENT
END:VCALENDAR