BEGIN:VCALENDAR
VERSION:2.0
PRODID:-//eventon.com NONSGML v1.0//EN
BEGIN:VEVENT
UID:69e5173bcd599
DTSTAMP:20260419T195611
DTSTART:20250914T090000Z
DTEND:20250914T140000Z
LOCATION:
SUMMARY:Heidekapel Open Monumenten Dag
DESCRIPTION: Op zondag 14 september zal de Heidekapel toegankelijk zijn i.v.m. de Open Monumenten Dag. Dit jaar is het thema Erfgoed en Architectuur. De Heidekapel is in 1935 gebouwd en dat is precies 90 jaar geleden. Er zal documentatie aanwezig zijn over de bouwstijl Delfste School en de bouwer  Hein Plant.[..]
END:VEVENT
END:VCALENDAR