BEGIN:VCALENDAR
VERSION:2.0
PRODID:-//eventon.com NONSGML v1.0//EN
BEGIN:VEVENT
UID:69e5015542e18
DTSTAMP:20260419T182245
DTSTART:20251012T123000Z
DTEND:20251012T160000Z
LOCATION:
SUMMARY:Soeren Jazz\,  Central Heat Bigband
DESCRIPTION: Laag-Soeren heeft een rijk verleden met Jazz\,  concerten in  café De Harmonie en een mooi\,  bekend\,  goed bezocht en jaarlijks jazzfestival op De Jutberg. Jazz is dus al lange tijd verweven met het dorp. Met nu de concerten in’t Sprengenhus te laten plaatsvinden geven we dit rijke verleden een vervolg.[..]
END:VEVENT
END:VCALENDAR