BEGIN:VCALENDAR
VERSION:2.0
PRODID:-//eventon.com NONSGML v1.0//EN
BEGIN:VEVENT
UID:69e4fedcd59d2
DTSTAMP:20260419T181212
DTSTART:20250903T180000Z
DTEND:20250903T200000Z
LOCATION:
SUMMARY:Sprengenkoor
DESCRIPTION: 't Sprengenkoor gaat vanaf 3 september 2025 in oprichting onder leiding van Marije Heemskerk. Het eerste seizoen zullen we allerlei muziekstijlen zingen - vaak met een theatrale inslag - zowel unisono als meerstemmig\,  en daarbij richten we ons op de algehele koorklank. We starten elke repetitie met een paar harmonische[..]
END:VEVENT
END:VCALENDAR