BEGIN:VCALENDAR
VERSION:2.0
PRODID:-//eventon.com NONSGML v1.0//EN
BEGIN:VEVENT
UID:69e4d12c8a5e5
DTSTAMP:20260419T145716
DTSTART:20250802T090000Z
DTEND:20250803T150000Z
LOCATION:
SUMMARY:Gladiolen festival
DESCRIPTION: Op zaterdag 2 augustus en zondag 3 augustus is weer het gezellige gladiolen festival van 11.00 uur tot 17.00 uur. In de theetuin kun je weer heerlijk genieten van de lekkere taartjes van Cake Daze Challa gladiolen Jut van Breukelerwaardlaan 6 Laag Soeren &nbsp; &nbsp;
END:VEVENT
END:VCALENDAR