BEGIN:VCALENDAR
VERSION:2.0
PRODID:-//eventon.com NONSGML v1.0//EN
BEGIN:VEVENT
UID:69e4ff8847106
DTSTAMP:20260419T181504
DTSTART:20260108T180000Z
DTEND:20260108T190000Z
LOCATION:
SUMMARY:Meditatie in Heidekapel
DESCRIPTION: Maandelijks een uurtje mediteren Laat je in alle rust leiden en inspireren door Bijbelse tekst\,  een gedicht\,  muziek of puur en alleen de stilte en de geluiden om je heen. In stilte komen we de Heidekapel binnen en we gaan op een stoel\,  een meditatiekrukje of een kussen zitten. De[..]
END:VEVENT
END:VCALENDAR