BEGIN:VCALENDAR
VERSION:2.0
PRODID:-//eventon.com NONSGML v1.0//EN
BEGIN:VEVENT
UID:69e4ffe086425
DTSTAMP:20260419T181632
DTSTART:20250803T113000Z
DTEND:20250803T140000Z
LOCATION:
SUMMARY:Dorpswandeling Oudheidkundige kring
DESCRIPTION: De oudheidkundige kring houdt zondag 3 augustus een dorpswandeling door Laag Soeren. De 4 kilometer lange route voert langs historische plekken zoals de zeven heuvelen en het voormalige badhuis. Gidsen vertellen over Otto van Kesteren en Pieter Jut van Breukelerwaard \,  sleutelfiguren in de dorpsgeschiedenis. Start om 13.30 uur op[..]
END:VEVENT
END:VCALENDAR