BEGIN:VCALENDAR
VERSION:2.0
PRODID:-//eventon.com NONSGML v1.0//EN
BEGIN:VEVENT
UID:69e9552823158
DTSTAMP:20260423T010928
DTSTART:20260125T130000Z
DTEND:20260125T150000Z
LOCATION:
SUMMARY:Jazz in Laag Soeren
DESCRIPTION: Jazz in Laag-Soeren Laag-Soeren heeft een rijk verleden met jazz. Regelmatig jazzconcerten in het café De Harmonie en een mooi\,  bekend\,  goed bezocht en leuk jaarlijks jazzfestival op De Jutberg. Afgelopen jaar zijn deze concerten weer opgestart en goed bezocht.  Zondag 25 januari is er een optreden van Ambrosia a[..]
END:VEVENT
END:VCALENDAR