BEGIN:VCALENDAR
VERSION:2.0
PRODID:-//eventon.com NONSGML v1.0//EN
BEGIN:VEVENT
UID:69e939acef046
DTSTAMP:20260422T231212
DTSTART:20260131T080000Z
DTEND:20260131T100000Z
LOCATION:
SUMMARY:Inloop landschapskwaliteiten Soerens beekdal
DESCRIPTION: De gemeente Rheden nodigt u van harte uit voor een inloopmoment op zaterdag 31 januari over het onderzoek naar de landschapskwaliteiten van het Soerens Beekdal. Afgelopen november heeft Marinke Steenhuis van bureau SteenhuisMeurs een presentatie gegeven over haar onderzoek naar de geschiedenis van het gebied van het Soerens Beekdal en[..]
END:VEVENT
END:VCALENDAR