BEGIN:VCALENDAR
VERSION:2.0
PRODID:-//eventon.com NONSGML v1.0//EN
BEGIN:VEVENT
UID:69e8f51dc9c8c
DTSTAMP:20260422T181941
DTSTART:20260216T120000Z
DTEND:20260216T130000Z
LOCATION:
SUMMARY:Freestyle voetbal workshop
DESCRIPTION: Freestyle Voetbal Workshop in  ‘t Sprengenhus! &nbsp; Guido\,  ook wel bekend als Freestyler Guido\,  woont in Laag-Soeren. Wekelijks verzorgt hij workshops en demonstraties in het binnen- en buitenland\,  is Guido te vinden in het theater en motiveert hij jongeren om hun passie en talent te ontdekken. Graag laat hij de[..]
END:VEVENT
END:VCALENDAR