BEGIN:VCALENDAR
VERSION:2.0
PRODID:-//eventon.com NONSGML v1.0//EN
BEGIN:VEVENT
UID:69e78a96a8dbf
DTSTAMP:20260421T163254
DTSTART:20260504T180000Z
DTEND:20260504T181500Z
LOCATION:
SUMMARY:Taptoe Nationale Dodenherdenking
DESCRIPTION: Op maandag 4 mei a.s. zullen Herbert en Harrie op het pleintje Jan Ligthartlaan\,  Cruyshoevelaan\,  Bosrichterlaan om 20.00 uur de taptoe spelen voor belangstellenden i.v.m. de Nationale Dodenherdenking. Sinds de Corona jaren een initiatief van beide heren. Alleen de twee heren met hun trompet en verder stilte.
END:VEVENT
END:VCALENDAR